BEGIN:VCALENDAR
VERSION:2.0
PRODID:-//Northwest Sewing Center - ECPv6.15.20//NONSGML v1.0//EN
CALSCALE:GREGORIAN
METHOD:PUBLISH
X-WR-CALNAME:Northwest Sewing Center
X-ORIGINAL-URL:https://nwsewingcenter.com
X-WR-CALDESC:Events for Northwest Sewing Center
REFRESH-INTERVAL;VALUE=DURATION:PT1H
X-Robots-Tag:noindex
X-PUBLISHED-TTL:PT1H
BEGIN:VTIMEZONE
TZID:America/Chicago
BEGIN:DAYLIGHT
TZOFFSETFROM:-0600
TZOFFSETTO:-0500
TZNAME:CDT
DTSTART:20240310T080000
END:DAYLIGHT
BEGIN:STANDARD
TZOFFSETFROM:-0500
TZOFFSETTO:-0600
TZNAME:CST
DTSTART:20241103T070000
END:STANDARD
BEGIN:DAYLIGHT
TZOFFSETFROM:-0600
TZOFFSETTO:-0500
TZNAME:CDT
DTSTART:20250309T080000
END:DAYLIGHT
BEGIN:STANDARD
TZOFFSETFROM:-0500
TZOFFSETTO:-0600
TZNAME:CST
DTSTART:20251102T070000
END:STANDARD
BEGIN:DAYLIGHT
TZOFFSETFROM:-0600
TZOFFSETTO:-0500
TZNAME:CDT
DTSTART:20260308T080000
END:DAYLIGHT
BEGIN:STANDARD
TZOFFSETFROM:-0500
TZOFFSETTO:-0600
TZNAME:CST
DTSTART:20261101T070000
END:STANDARD
END:VTIMEZONE
BEGIN:VEVENT
DTSTART;TZID=America/Chicago:20251213T100000
DTEND;TZID=America/Chicago:20251213T163000
DTSTAMP:20260424T152617
CREATED:20251205T131113Z
LAST-MODIFIED:20251208T213901Z
UID:10000520-1765620000-1765643400@nwsewingcenter.com
SUMMARY:Holiday Open House
DESCRIPTION:Holiday Sale & Open House\n \nView the Flyer \n			\n				\n				\n				\n				\n				The holiday season is here! Festive shopping\, amazing discounts\, live demos\, end-of-year giveaway\, plus special surprises that will make your celebrations even brighter. And don’t forget that we have GIFT CERTIFICATES available in several denominations for your favorite sewist! Join us and let’s celebrate the holidays together with fun\, savings\, and plenty of cheer! \n			\n			\n				\n				\n				\n				\n			\n				\n				\n				\n				\n				\n				\n				\n				\n				\n				\n				\n			\n			\n				\n				\n				\n				\n				\n				\n				\n				\n				\n				\n			\n			\n				\n				\n				\n				\n			\n				\n				\n				\n				\n				\n				\n				\n				\n				\n				\n				\n			\n			\n				\n				\n				\n				\n				\n				\n				\n				\n				\n				\n			\n			\n				\n				\n				\n				\n			\n				\n				\n				\n				\n				\n				\n				\n				\n				\n				\n				Holiday Sale Items Now Through January 4th\n			\n			\n				\n				\n				\n				\n			\n				\n				\n				\n				\n				\n				\n				\n				\n				\n				\n				Fabric & Pre-Cuts20% Off\n			\n				\n				\n				\n				\n				\n			\n				\n				\n				\n				\n				Batting & Insul-Brite20% Off\n			\n				\n				\n				\n				\n				\n			\n			\n				\n				\n				\n				\n				\n				\n				\n				\n				\n				Stabilizer20% Off\n			\n				\n				\n				\n				\n				\n			\n				\n				\n				\n				\n				Scissors\, Snips  & Tweezers20% Off\n			\n				\n				\n				\n				\n				\n			\n			\n				\n				\n				\n				\n				\n				\n				\n				\n				\n				Rulers20% Off\n			\n				\n				\n				\n				\n				\n			\n				\n				\n				\n				\n				Patterns20% Off\n			\n				\n				\n				\n				\n				\n			\n			\n				\n				\n				\n				\n			\n				\n				\n				\n				\n				\n				\n			\n				\n				\n				\n				\n				\n				\n				\n				\n				\n				Stay Connected With Us\n \n \nView our store brochure!
URL:https://nwsewingcenter.com/event/holiday-open-house/
LOCATION:Northwest Sewing Center\, 5448 Burnet Road No 1\, Austin\, TX\, 78756\, United States
CATEGORIES:Holiday/Special Hours
ATTACH;FMTTYPE=image/png:https://nwsewingcenter.com/wp-content/uploads/2025/12/nwsc-decembersaleopenhouse-banner1.png
END:VEVENT
BEGIN:VEVENT
DTSTART;TZID=America/Chicago:20251224T100000
DTEND;TZID=America/Chicago:20251224T153000
DTSTAMP:20260424T152617
CREATED:20251203T202106Z
LAST-MODIFIED:20251203T202139Z
UID:10000517-1766570400-1766590200@nwsewingcenter.com
SUMMARY:Special Store Hours
DESCRIPTION:Even though we have special holiday hours at the store\, your shopping doesn’t have to stop! Our online store is always open\, so you can browse and place your orders at your convenience. We’ll make sure your purchases are ready and waiting for you as soon as we reopen. Shop anytime\, and let us handle the rest! \n			\n			\n				\n				\n				\n				\n			\n				\n				\n				\n				\n				\n				\n			\n				\n				\n				\n				\n				\n				\n				\n				\n				\n				Stay Connected With Us\n \n \nView our store brochure!
URL:https://nwsewingcenter.com/event/specialhours-12242025/
LOCATION:Northwest Sewing Center\, 5448 Burnet Road No 1\, Austin\, TX\, 78756\, United States
CATEGORIES:Holiday/Special Hours
ATTACH;FMTTYPE=image/png:https://nwsewingcenter.com/wp-content/uploads/2024/12/nwsc-specialstorehours2024-banner.png
END:VEVENT
BEGIN:VEVENT
DTSTART;VALUE=DATE:20251225
DTEND;VALUE=DATE:20251226
DTSTAMP:20260424T152617
CREATED:20251130T153809Z
LAST-MODIFIED:20251203T201210Z
UID:10000513-1766620800-1766707199@nwsewingcenter.com
SUMMARY:Closed for Holiday
DESCRIPTION:Even when our doors are closed for the holidays\, your shopping doesn’t have to stop! Our online store is always open\, so you can browse and place your orders at your convenience. We’ll make sure your purchases are ready and waiting for you as soon as we reopen. Shop anytime\, and let us handle the rest! \n			\n			\n				\n				\n				\n				\n			\n				\n				\n				\n				\n				\n				\n			\n				\n				\n				\n				\n				\n				\n				\n				\n				\n				Stay Connected With Us\n \n \nView our store brochure!
URL:https://nwsewingcenter.com/event/closed-for-holiday-12252025/
LOCATION:Northwest Sewing Center\, 5448 Burnet Road No 1\, Austin\, TX\, 78756\, United States
CATEGORIES:Holiday/Special Hours
ATTACH;FMTTYPE=image/png:https://nwsewingcenter.com/wp-content/uploads/2024/08/nwsc_closedforholiday.png
END:VEVENT
BEGIN:VEVENT
DTSTART;VALUE=DATE:20251226
DTEND;VALUE=DATE:20251227
DTSTAMP:20260424T152617
CREATED:20251203T201352Z
LAST-MODIFIED:20251203T201523Z
UID:10000515-1766707200-1766793599@nwsewingcenter.com
SUMMARY:Closed for Holiday
DESCRIPTION:Even when our doors are closed for the holidays\, your shopping doesn’t have to stop! Our online store is always open\, so you can browse and place your orders at your convenience. We’ll make sure your purchases are ready and waiting for you as soon as we reopen. Shop anytime\, and let us handle the rest! \n			\n			\n				\n				\n				\n				\n			\n				\n				\n				\n				\n				\n				\n			\n				\n				\n				\n				\n				\n				\n				\n				\n				\n				Stay Connected With Us\n \n \nView our store brochure!
URL:https://nwsewingcenter.com/event/closed-for-holiday-12262025/
LOCATION:Northwest Sewing Center\, 5448 Burnet Road No 1\, Austin\, TX\, 78756\, United States
CATEGORIES:Holiday/Special Hours
ATTACH;FMTTYPE=image/png:https://nwsewingcenter.com/wp-content/uploads/2024/08/nwsc_closedforholiday.png
END:VEVENT
BEGIN:VEVENT
DTSTART;TZID=America/Chicago:20251231T100000
DTEND;TZID=America/Chicago:20251231T153000
DTSTAMP:20260424T152617
CREATED:20251203T202250Z
LAST-MODIFIED:20251203T202256Z
UID:10000518-1767175200-1767195000@nwsewingcenter.com
SUMMARY:Special Store Hours
DESCRIPTION:Even though we have special holiday hours at the store\, your shopping doesn’t have to stop! Our online store is always open\, so you can browse and place your orders at your convenience. We’ll make sure your purchases are ready and waiting for you as soon as we reopen. Shop anytime\, and let us handle the rest! \n			\n			\n				\n				\n				\n				\n			\n				\n				\n				\n				\n				\n				\n			\n				\n				\n				\n				\n				\n				\n				\n				\n				\n				Stay Connected With Us\n \n \nView our store brochure!
URL:https://nwsewingcenter.com/event/special-store-hours-12312025/
LOCATION:Northwest Sewing Center\, 5448 Burnet Road No 1\, Austin\, TX\, 78756\, United States
CATEGORIES:Holiday/Special Hours
ATTACH;FMTTYPE=image/png:https://nwsewingcenter.com/wp-content/uploads/2024/12/nwsc-specialstorehours2024-banner.png
END:VEVENT
END:VCALENDAR