BEGIN:VCALENDAR
VERSION:2.0
PRODID:-//Northwest Sewing Center - ECPv6.15.20//NONSGML v1.0//EN
CALSCALE:GREGORIAN
METHOD:PUBLISH
X-ORIGINAL-URL:https://nwsewingcenter.com
X-WR-CALDESC:Events for Northwest Sewing Center
REFRESH-INTERVAL;VALUE=DURATION:PT1H
X-Robots-Tag:noindex
X-PUBLISHED-TTL:PT1H
BEGIN:VTIMEZONE
TZID:America/Chicago
BEGIN:DAYLIGHT
TZOFFSETFROM:-0600
TZOFFSETTO:-0500
TZNAME:CDT
DTSTART:20250309T080000
END:DAYLIGHT
BEGIN:STANDARD
TZOFFSETFROM:-0500
TZOFFSETTO:-0600
TZNAME:CST
DTSTART:20251102T070000
END:STANDARD
BEGIN:DAYLIGHT
TZOFFSETFROM:-0600
TZOFFSETTO:-0500
TZNAME:CDT
DTSTART:20260308T080000
END:DAYLIGHT
BEGIN:STANDARD
TZOFFSETFROM:-0500
TZOFFSETTO:-0600
TZNAME:CST
DTSTART:20261101T070000
END:STANDARD
BEGIN:DAYLIGHT
TZOFFSETFROM:-0600
TZOFFSETTO:-0500
TZNAME:CDT
DTSTART:20270314T080000
END:DAYLIGHT
BEGIN:STANDARD
TZOFFSETFROM:-0500
TZOFFSETTO:-0600
TZNAME:CST
DTSTART:20271107T070000
END:STANDARD
END:VTIMEZONE
BEGIN:VEVENT
DTSTART;VALUE=DATE:20260101
DTEND;VALUE=DATE:20260102
DTSTAMP:20260424T135140
CREATED:20251203T201725Z
LAST-MODIFIED:20251203T201731Z
UID:10000516-1767225600-1767311999@nwsewingcenter.com
SUMMARY:Closed for Holiday
DESCRIPTION:Even when our doors are closed for the holidays\, your shopping doesn’t have to stop! Our online store is always open\, so you can browse and place your orders at your convenience. We’ll make sure your purchases are ready and waiting for you as soon as we reopen. Shop anytime\, and let us handle the rest! \n			\n			\n				\n				\n				\n				\n			\n				\n				\n				\n				\n				\n				\n			\n				\n				\n				\n				\n				\n				\n				\n				\n				\n				Stay Connected With Us\n \n \nView our store brochure!
URL:https://nwsewingcenter.com/event/closed-for-holiday-01012026/
LOCATION:Northwest Sewing Center\, 5448 Burnet Road No 1\, Austin\, TX\, 78756\, United States
CATEGORIES:Holiday/Special Hours
ATTACH;FMTTYPE=image/png:https://nwsewingcenter.com/wp-content/uploads/2024/08/nwsc_closedforholiday.png
END:VEVENT
BEGIN:VEVENT
DTSTART;TZID=America/Chicago:20260102T120000
DTEND;TZID=America/Chicago:20260102T170000
DTSTAMP:20260424T135141
CREATED:20251203T202423Z
LAST-MODIFIED:20251216T172009Z
UID:10000519-1767355200-1767373200@nwsewingcenter.com
SUMMARY:Special Store Hours
DESCRIPTION:Even though we have special holiday hours at the store\, your shopping doesn’t have to stop! Our online store is always open\, so you can browse and place your orders at your convenience. We’ll make sure your purchases are ready and waiting for you as soon as we reopen. Shop anytime\, and let us handle the rest! \n			\n			\n				\n				\n				\n				\n			\n				\n				\n				\n				\n				\n				\n			\n				\n				\n				\n				\n				\n				\n				\n				\n				\n				Stay Connected With Us\n \n \nView our store brochure!
URL:https://nwsewingcenter.com/event/special-store-hours-01022026/
LOCATION:Northwest Sewing Center\, 5448 Burnet Road No 1\, Austin\, TX\, 78756\, United States
CATEGORIES:Holiday/Special Hours
ATTACH;FMTTYPE=image/png:https://nwsewingcenter.com/wp-content/uploads/2024/12/nwsc-specialstorehours2024-banner.png
END:VEVENT
END:VCALENDAR