BEGIN:VCALENDAR
VERSION:2.0
PRODID:-//Northwest Sewing Center - ECPv6.15.20//NONSGML v1.0//EN
CALSCALE:GREGORIAN
METHOD:PUBLISH
X-WR-CALNAME:Northwest Sewing Center
X-ORIGINAL-URL:https://nwsewingcenter.com
X-WR-CALDESC:Events for Northwest Sewing Center
REFRESH-INTERVAL;VALUE=DURATION:PT1H
X-Robots-Tag:noindex
X-PUBLISHED-TTL:PT1H
BEGIN:VTIMEZONE
TZID:America/Chicago
BEGIN:DAYLIGHT
TZOFFSETFROM:-0600
TZOFFSETTO:-0500
TZNAME:CDT
DTSTART:20250309T080000
END:DAYLIGHT
BEGIN:STANDARD
TZOFFSETFROM:-0500
TZOFFSETTO:-0600
TZNAME:CST
DTSTART:20251102T070000
END:STANDARD
BEGIN:DAYLIGHT
TZOFFSETFROM:-0600
TZOFFSETTO:-0500
TZNAME:CDT
DTSTART:20260308T080000
END:DAYLIGHT
BEGIN:STANDARD
TZOFFSETFROM:-0500
TZOFFSETTO:-0600
TZNAME:CST
DTSTART:20261101T070000
END:STANDARD
BEGIN:DAYLIGHT
TZOFFSETFROM:-0600
TZOFFSETTO:-0500
TZNAME:CDT
DTSTART:20270314T080000
END:DAYLIGHT
BEGIN:STANDARD
TZOFFSETFROM:-0500
TZOFFSETTO:-0600
TZNAME:CST
DTSTART:20271107T070000
END:STANDARD
END:VTIMEZONE
BEGIN:VEVENT
DTSTART;TZID=America/Chicago:20260627T100000
DTEND;TZID=America/Chicago:20260627T130000
DTSTAMP:20260425T052924
CREATED:20260223T001013Z
LAST-MODIFIED:20260323T154716Z
UID:10000560-1782554400-1782565200@nwsewingcenter.com
SUMMARY:Whole Country Caboodle Appliqué a Shirt June 2026 (IN-STORE or VIRTUAL)
DESCRIPTION:About the Monthly Appliqué Program \nJoin our monthly applique program where you’ll learn to work with whimsical patterns\, & precut appliqués from The Whole Country Caboodle Studio. You’ll create appliqué projects to spark your creativity & make sewing joyful. Each month you’ll make a fun appliqué project: pillow\, bucket\, bag\, towel\, & appliqué on clothing\, and more. \nAbout This Month’s Project\nLearn how to Appliqué a shirt using two different techniques. The appliqué design of your own choice and shapes are laser cut with Heat n Bond Lite Fusible and are ready to assemble.Stop by the store to see all of the cute Whole Country Caboodle list to choose from. There are also samples on the wall to inspire what you might want to Appliqué: a cheap mens shirt\, sweat shirt \, a Kitchen towel\, or a jean jacket!   \nRegistration closes early to order & ship class materials. If participating virtually\, a shipping fee of $8.99 will be required to ship class materials to you with enough time. We will call you to arrange shipping.  \n \nView the Flyer \n\n			\n				\n				\n				\n				\n				Class fee of $62 includes the discounted 1-month kit for this project (reg. price kit is $40.50) – You need to bring your own shirt/item to appliqué. Choose from one of these samples for your project.  \n			\n			\n				\n				\n				\n				\n				\n				\n				\n				\n				\n				\n				\n			\n				\n					\n					\n					\n				\n				\n					\n					\n					\n				\n				\n					\n					\n					\n				\n				\n					\n					\n					\n				\n				\n				\n				\n				\n				\n				\n			\n			\n				\n				\n				\n				\n			\n				\n				\n				\n				\n				\n				\n			\n				\n				\n				\n				\n				\n			\n				\n				\n				\n				\n			\n				\n				\n				\n				\n				\n				\n				\n				\n				\n				\n				What You Need For Class\n			\n				\n				\n				\n				\n				–Sewing machine in good working order\n–Thread to match fabric\n–Basic sewing supplies\, including scissors\, pins\, tape measure\, etc.\n–Your Whole Country Caboodle Kit\n–A Shirt\, or Kitchen towel\, Sweat shirt\, Jean Jacket \nYou get 20% off all materials when you buy your supplies at the shop or over the phone.\n \n			\n			\n				\n				\n				\n				\n			\n				\n				\n				\n				\n				\n				\n			\n				\n				\n				\n				\n				\n				\n				\n				\n				\n				Stay Connected With Us\n \n \nView our store brochure!
URL:https://nwsewingcenter.com/event/whole-country-caboodle-applique-a-shirt-06202026/
LOCATION:Northwest Sewing Center\, 5448 Burnet Road No 1\, Austin\, TX\, 78756\, United States
CATEGORIES:Sewing
ATTACH;FMTTYPE=image/png:https://nwsewingcenter.com/wp-content/uploads/2026/02/nwsc-appliqueclub-june2026-banner.png
END:VEVENT
BEGIN:VEVENT
DTSTART;TZID=America/Chicago:20260629T180000
DTEND;TZID=America/Chicago:20260629T200000
DTSTAMP:20260425T052925
CREATED:20260225T172601Z
LAST-MODIFIED:20260225T174503Z
UID:10000569-1782756000-1782763200@nwsewingcenter.com
SUMMARY:Basic Sewing 103 Parts 1 & 2
DESCRIPTION:THIS CLASS TAKES PLACE June 29th & July 6th. \nIn this class\, you will learn the following:\nPart 1 –\n–Create buttonholes\, machine stitch a button; direction of standard buttonholes\, opening buttonholes\n–Sew on buttons using the machine button features\, aligning buttons to buttonholes\, cross stitch and standard  button applications \nPart 2 –\n–Sew a Cosmetic Pouch/Bag with lining\, buttonhole & button closure; pattern layout\, cut and sew/assemble Bag/Pouch \n			\n				\n				\n				\n				\n				You get 20% off all other materials when you buy your supplies at the shop or over the phone. \n			\n			\n				\n				\n				\n				\n				\n				\n					\n					\n					\n				\n				\n					\n					\n					\n				\n				\n			\n				\n				\n				\n				\n			\n				\n				\n				\n				\n				\n				\n				\n				\n				\n				\n				What You’ll Need for Class\n			\n			\n				\n				\n				\n				\n			\n				\n				\n				\n				\n				\n				\n				\n				\n				\n				\n				–Sewing Machine (including any tools that come with your machine)\n–Sewing Machine Manual (if you do not have a printed-out copy\, please be prepared to bring a downloaded version)\n–Thread\n–Bobbins for your Machine (note: always check the package of bobbins when purchasing to ensure that your sewing machine model appears for usage)\n–Button Hole & Button Pressor Feet\n–Machine Needles per your machine; both single & double needles (note: always check the package of needles when purchasing to ensure that your sewing machine model appears for usage)\n \n			\n			\n				\n				\n				\n				\n				\n				\n				\n				\n				\n				–Sewing Machine Toolbox – (Note: all can are available at The Sewing Station Learning Center Online Boutique or NWSC):\n–Hand Stitch Needles\n–Scissors for cutting fabric\n–Snippers for cutting threads\n–Seam ripper\n–Tape measure and/or ruler\n–Straight Pins (25) \nFabrics –\n–For Part 1: Any scrap fabric will do for stitching out our samples\n–For Part 2: two different types of Fat Quarters Fabric
URL:https://nwsewingcenter.com/event/basic-sewing-103-06292026/
LOCATION:Northwest Sewing Center\, 5448 Burnet Road No 1\, Austin\, TX\, 78756\, United States
CATEGORIES:Sewing
ATTACH;FMTTYPE=image/png:https://nwsewingcenter.com/wp-content/uploads/2024/03/basicsew-103-banner.png
END:VEVENT
BEGIN:VEVENT
DTSTART;TZID=America/Chicago:20260821T100000
DTEND;TZID=America/Chicago:20260821T170000
DTSTAMP:20260425T052925
CREATED:20260421T151303Z
LAST-MODIFIED:20260421T155928Z
UID:10000584-1787306400-1787331600@nwsewingcenter.com
SUMMARY:AAQG QuiltFest 2026
DESCRIPTION:Visit Our Booth at this year’s Austin Area Quilt Guild Quiltfest 2026! \nView the Flyer\nView the QuiltFest Official Page\n \n\n			\n				\n				\n				\n				\n				\n			\n			\n				\n				\n				\n				\n			\n				\n				\n				\n				\n				\n				\n			\n				\n				\n				\n				\n				\n				\n				\n				\n				\n				Stay Connected With Us\n \n \nView our store brochure!
URL:https://nwsewingcenter.com/event/aaqgquiltfest2026-08212026/
LOCATION:Northwest Sewing Center\, 5448 Burnet Road No 1\, Austin\, TX\, 78756\, United States
CATEGORIES:Special Events
ATTACH;FMTTYPE=image/png:https://nwsewingcenter.com/wp-content/uploads/2026/04/nwsc-quiltfest2026-bannernew.png
END:VEVENT
BEGIN:VEVENT
DTSTART;TZID=America/Chicago:20260822T100000
DTEND;TZID=America/Chicago:20260822T170000
DTSTAMP:20260425T052925
CREATED:20260421T155311Z
LAST-MODIFIED:20260421T155317Z
UID:10000585-1787392800-1787418000@nwsewingcenter.com
SUMMARY:AAQG QuiltFest 2026
DESCRIPTION:Visit Our Booth at this year’s Austin Area Quilt Guild Quiltfest 2026! \nView the Flyer\nView the QuiltFest Official Page\n \n\n			\n			\n				\n				\n				\n				\n			\n				\n				\n				\n				\n				\n				\n			\n				\n				\n				\n				\n				\n				\n				\n				\n				\n				Stay Connected With Us\n \n \nView our store brochure!
URL:https://nwsewingcenter.com/event/aaqgquiltfest2026-08222026/
LOCATION:Northwest Sewing Center\, 5448 Burnet Road No 1\, Austin\, TX\, 78756\, United States
CATEGORIES:Special Events
ATTACH;FMTTYPE=image/png:https://nwsewingcenter.com/wp-content/uploads/2026/04/nwsc-quiltfest2026-bannernew.png
END:VEVENT
BEGIN:VEVENT
DTSTART;TZID=America/Chicago:20260823T110000
DTEND;TZID=America/Chicago:20260823T150000
DTSTAMP:20260425T052925
CREATED:20260421T155707Z
LAST-MODIFIED:20260421T155713Z
UID:10000586-1787482800-1787497200@nwsewingcenter.com
SUMMARY:AAQG QuiltFest 2026
DESCRIPTION:Visit Our Booth at this year’s Austin Area Quilt Guild Quiltfest 2026! \nView the Flyer\nView the QuiltFest Official Page\n \n\n			\n				\n				\n				\n				\n				\n			\n			\n				\n				\n				\n				\n			\n				\n				\n				\n				\n				\n				\n			\n				\n				\n				\n				\n				\n				\n				\n				\n				\n				Stay Connected With Us\n \n \nView our store brochure!
URL:https://nwsewingcenter.com/event/aaqgquiltfest2026-08232026/
LOCATION:Northwest Sewing Center\, 5448 Burnet Road No 1\, Austin\, TX\, 78756\, United States
CATEGORIES:Special Events
ATTACH;FMTTYPE=image/png:https://nwsewingcenter.com/wp-content/uploads/2026/04/nwsc-quiltfest2026-bannernew.png
END:VEVENT
BEGIN:VEVENT
DTSTART;TZID=America/Chicago:20260829T100000
DTEND;TZID=America/Chicago:20260829T170000
DTSTAMP:20260425T052925
CREATED:20260416T192825Z
LAST-MODIFIED:20260416T193130Z
UID:10000583-1787997600-1788022800@nwsewingcenter.com
SUMMARY:Kimberbell The Stitching Hour 2 Day Event (IN-STORE or VIRTUAL)
DESCRIPTION:This event takes place on August 29th and 30th from 10am to 5pm each day! \nThe Stitching Hour is frightfully fun for everyone! At Kimberbell’s two-day machine embroidery event\, you’ll make three feature projects and five fa-boo-lous ornaments for the included tabletop tree. Stitch the Haunted House Gift Card Holder on Pink Plaid Leather\, then make a Monster Stash Zipper Pouch with a striped zipper “scar!” The Batty Candy Wrap holds your favorite treat with black Micro Velvet and foldable wings\, while Booella\, Twinklewing\, Sadie Spider\, Pumpkin Petals\, and Boo-tiful Stitches are charming additions to the light-up tree. \nEnchanting projects for your favorite “haunt!”\n			\n				\n				\n				\n				\n				\n			\n			\n				\n				\n				\n				\n				\n				\n				\n				\n				\n				\n			\n				\n				\n				\n				\n				\n			\n				\n				\n				\n				\n				\n			\n			\n				\n				\n				\n				\n			\n				\n				\n				\n				\n				\n				\n				\n				\n				\n				\n				The Stitching Hour Event Projects\n \n \nHaunted House Gift Card Holder • Monster Stash Zipper Pouch • The Batty Candy Wrap • Five Spook-tacular Ornaments \n\n			\n			\n				\n				\n				\n				\n			\n				\n				\n				\n				\n				\n				\n				\n				\n				\n				\n				Dimensional Gift Card Holder\n			\n				\n				\n				\n				\n				\n			\n			\n				\n				\n				\n				\n				\n				\n				\n				\n				\n				In-the-hoop Zipper Pouch\n			\n				\n				\n				\n				\n				\n			\n			\n				\n				\n				\n				\n				\n				\n				\n				\n				\n				In-the-hoop Candy Bar Wrapper\n			\n				\n				\n				\n				\n				\n			\n			\n				\n				\n				\n				\n			\n				\n				\n				\n				\n				\n				\n				\n				\n				\n				\n				\n			\n			\n				\n				\n				\n				\n				\n				\n				\n				\n				\n				Event Bonus Designs\nReceive the Spooky Bobbins Bonus Designs for FREE when you purchase $100+ product in the Kimberbell Popup Shop. \n			\n			\n				\n				\n				\n				\n			\n				\n				\n				\n				\n				\n				\n			\n				\n				\n				\n				\n				\n				\n				\n				\n				\n				Stay Connected With Us\n \n \nView our store brochure!
URL:https://nwsewingcenter.com/event/kimberbell-the-stitching-hour-2-day-event-in-store-or-virtual/
LOCATION:Northwest Sewing Center\, 5448 Burnet Road No 1\, Austin\, TX\, 78756\, United States
ATTACH;FMTTYPE=image/png:https://nwsewingcenter.com/wp-content/uploads/2026/04/nwsc-KD-stitchinghour-banner.png
END:VEVENT
END:VCALENDAR